BEGIN:VCALENDAR
PRODID:-//eluceo/ical//2.0/EN
VERSION:2.0
CALSCALE:GREGORIAN
BEGIN:VEVENT
UID:hey.bayern.694218.6550436
DTSTAMP:20260419T122734Z
SUMMARY:Felix Marks | Dialektmusik aus OÖ
DTSTART;TZID=Europe/Berlin:20260717T193000
DTEND;TZID=Europe/Berlin:20260717T213000
LOCATION:Burgstraße 27\, 4460 Losenstein\, Österreich
GEO:47.925968;14.432232
X-APPLE-STRUCTURED-LOCATION;VALUE=URI;X-ADDRESS=Burgstraße 27\, 4460 Losen
 stein\, Österreich;X-APPLE-RADIUS=49;X-TITLE=:geo:47.925968,14.432232
URL;VALUE=URI:https://hey.bayern/events/694218
END:VEVENT
END:VCALENDAR
