BEGIN:VCALENDAR
PRODID:-//eluceo/ical//2.0/EN
VERSION:2.0
CALSCALE:GREGORIAN
BEGIN:VEVENT
UID:hey.bayern.694214.6550432
DTSTAMP:20260419T140500Z
SUMMARY:Familienkonzert für Kinder ab 5 Jahren
DTSTART;TZID=Europe/Berlin:20260425T170000
DTEND;TZID=Europe/Berlin:20260426T170000
LOCATION:Kirchdorf 72\, 6874 Bizau\, Österreich
GEO:47.368690;9.928250
X-APPLE-STRUCTURED-LOCATION;VALUE=URI;X-ADDRESS=Kirchdorf 72\, 6874 Bizau\,
  Österreich;X-APPLE-RADIUS=49;X-TITLE=:geo:47.368690,9.928250
URL;VALUE=URI:https://hey.bayern/events/694214
END:VEVENT
END:VCALENDAR
