BEGIN:VCALENDAR
PRODID:-//eluceo/ical//2.0/EN
VERSION:2.0
CALSCALE:GREGORIAN
BEGIN:VEVENT
UID:hey.bayern.694212.6550430
DTSTAMP:20260419T192316Z
SUMMARY:Fachaustausch Projektarbeit mit Jugendlichen
DTSTART;TZID=Europe/Berlin:20260520T090000
DTEND;TZID=Europe/Berlin:20260520T123000
LOCATION:Widaustrasse 15\, 9491 Ruggell\, Österreich
GEO:47.247310;9.527290
X-APPLE-STRUCTURED-LOCATION;VALUE=URI;X-ADDRESS=Widaustrasse 15\, 9491 Rugg
 ell\, Österreich;X-APPLE-RADIUS=49;X-TITLE=:geo:47.247310,9.527290
URL;VALUE=URI:https://hey.bayern/events/694212
END:VEVENT
END:VCALENDAR
