BEGIN:VCALENDAR
PRODID:-//eluceo/ical//2.0/EN
VERSION:2.0
CALSCALE:GREGORIAN
BEGIN:VEVENT
UID:hey.bayern.694184.6550293
DTSTAMP:20260419T192217Z
SUMMARY:Carmina BANANA - Krumme Lieder
DTSTART;TZID=Europe/Berlin:20260424T190000
DTEND;TZID=Europe/Berlin:20260424T235959
LOCATION:Eibiswald 82\, 8552 Eibiswald\, Österreich
GEO:46.685978;15.244554
X-APPLE-STRUCTURED-LOCATION;VALUE=URI;X-ADDRESS=Eibiswald 82\, 8552 Eibiswa
 ld\, Österreich;X-APPLE-RADIUS=49;X-TITLE=:geo:46.685978,15.244554
URL;VALUE=URI:https://hey.bayern/events/694184
END:VEVENT
END:VCALENDAR
