BEGIN:VCALENDAR
PRODID:-//eluceo/ical//2.0/EN
VERSION:2.0
CALSCALE:GREGORIAN
BEGIN:VEVENT
UID:hey.bayern.694174.6550172
DTSTAMP:20260419T140711Z
SUMMARY:Bergabenteuer Montafon im Klettergarten Latschau
DTSTART;TZID=Europe/Berlin:20260906T000000
DTEND;TZID=Europe/Berlin:20260907T000000
LOCATION:Latschaustraße 62\, 6774 Tschagguns\, Österreich
GEO:47.079254;9.876930
X-APPLE-STRUCTURED-LOCATION;VALUE=URI;X-ADDRESS=Latschaustraße 62\, 6774 T
 schagguns\, Österreich;X-APPLE-RADIUS=49;X-TITLE=:geo:47.079254,9.876930
URL;VALUE=URI:https://hey.bayern/events/694174
END:VEVENT
END:VCALENDAR
