BEGIN:VCALENDAR
PRODID:-//eluceo/ical//2.0/EN
VERSION:2.0
CALSCALE:GREGORIAN
BEGIN:VEVENT
UID:hey.bayern.694167.6550080
DTSTAMP:20260419T173002Z
SUMMARY:Banff Tour | Outdoor- und Abenteuerfilme
DTSTART;TZID=Europe/Berlin:20260420T203000
DTEND;TZID=Europe/Berlin:20260420T235959
LOCATION:Alte Poststr. 470\, 8055 Graz\, Österreich
GEO:47.030985;15.430467
X-APPLE-STRUCTURED-LOCATION;VALUE=URI;X-ADDRESS=Alte Poststr. 470\, 8055 Gr
 az\, Österreich;X-APPLE-RADIUS=49;X-TITLE=:geo:47.030985,15.430467
URL;VALUE=URI:https://hey.bayern/events/694167
END:VEVENT
END:VCALENDAR
