BEGIN:VCALENDAR
PRODID:-//eluceo/ical//2.0/EN
VERSION:2.0
CALSCALE:GREGORIAN
BEGIN:VEVENT
UID:hey.bayern.694153.6549677
DTSTAMP:20260421T234605Z
SUMMARY:100 Jahre Gasthof Wachmann
DTSTART;TZID=Europe/Berlin:20260705T100000
DTEND;TZID=Europe/Berlin:20260705T235959
LOCATION:Romatschachen 55\, 8212 Pischelsdorf am Kulm\, Österreich
URL;VALUE=URI:https://hey.bayern/events/694153
END:VEVENT
END:VCALENDAR
