BEGIN:VCALENDAR
PRODID:-//eluceo/ical//2.0/EN
VERSION:2.0
CALSCALE:GREGORIAN
BEGIN:VEVENT
UID:hey.bayern.694151.6549673
DTSTAMP:20260422T031140Z
SUMMARY:1. Maifeier
DTSTART;TZID=Europe/Berlin:20260501T103000
DTEND;TZID=Europe/Berlin:20260501T235959
URL;VALUE=URI:https://hey.bayern/events/694151
END:VEVENT
END:VCALENDAR
