BEGIN:VCALENDAR
PRODID:-//eluceo/ical//2.0/EN
VERSION:2.0
CALSCALE:GREGORIAN
BEGIN:VEVENT
UID:hey.bayern.694091.6549242
DTSTAMP:20260419T192246Z
SUMMARY:Sound of Spirit
DTSTART;TZID=Europe/Berlin:20260508T190000
DTEND;TZID=Europe/Berlin:20260508T235959
LOCATION:St. Johann bei Herberstein 7\, 8222 Feistritztal\, Österreich
URL;VALUE=URI:https://hey.bayern/events/694091
END:VEVENT
END:VCALENDAR
