BEGIN:VCALENDAR
PRODID:-//eluceo/ical//2.0/EN
VERSION:2.0
CALSCALE:GREGORIAN
BEGIN:VEVENT
UID:hey.bayern.694074.6549144
DTSTAMP:20260419T142308Z
SUMMARY:Präsentationsvortrag zur Sonderausstellung 2026
DTSTART;TZID=Europe/Berlin:20260503T190000
DTEND;TZID=Europe/Berlin:20260503T235900
LOCATION:Erlet 6\, 4682 Geboltskirchen\, Österreich
GEO:48.157978;13.662593
X-APPLE-STRUCTURED-LOCATION;VALUE=URI;X-ADDRESS=Erlet 6\, 4682 Geboltskirch
 en\, Österreich;X-APPLE-RADIUS=49;X-TITLE=:geo:48.157978,13.662593
URL;VALUE=URI:https://hey.bayern/events/694074
END:VEVENT
END:VCALENDAR
