BEGIN:VCALENDAR
PRODID:-//eluceo/ical//2.0/EN
VERSION:2.0
CALSCALE:GREGORIAN
BEGIN:VEVENT
UID:hey.bayern.694061.6549128
DTSTAMP:20260419T192210Z
SUMMARY:Orgelfrühling Steiermark - Pfarrkirche St. Veit
DTSTART;TZID=Europe/Berlin:20260426T160000
DTEND;TZID=Europe/Berlin:20260426T235959
LOCATION:Am Kirchplatz 5\, 8423 St. Veit in der Südsteiermark\, Österreic
 h
GEO:46.747026;15.625487
X-APPLE-STRUCTURED-LOCATION;VALUE=URI;X-ADDRESS=Am Kirchplatz 5\, 8423 St. 
 Veit in der Südsteiermark\, Österreich;X-APPLE-RADIUS=49;X-TITLE=:geo:46
 .747026,15.625487
URL;VALUE=URI:https://hey.bayern/events/694061
END:VEVENT
END:VCALENDAR
