BEGIN:VCALENDAR
PRODID:-//eluceo/ical//2.0/EN
VERSION:2.0
CALSCALE:GREGORIAN
BEGIN:VEVENT
UID:hey.bayern.694054.6549092
DTSTAMP:20260422T002005Z
SUMMARY:Nachbarschaftsfrühstück
DTSTART;TZID=Europe/Berlin:20260505T090000
DTEND;TZID=Europe/Berlin:20260505T120000
LOCATION:Bauernmarkt und Josefinum\, 8700 Leoben\, Österreich
URL;VALUE=URI:https://hey.bayern/events/694054
END:VEVENT
END:VCALENDAR
