BEGIN:VCALENDAR
PRODID:-//eluceo/ical//2.0/EN
VERSION:2.0
CALSCALE:GREGORIAN
BEGIN:VEVENT
UID:hey.bayern.694042.6549074
DTSTAMP:20260422T090643Z
SUMMARY:Musiksommer Neustift: Konzert für Klarinetten und Bassetthorn
DTSTART;TZID=Europe/Berlin:20260908T203000
DTEND;TZID=Europe/Berlin:20260908T213000
LOCATION:6167 Neustift im Stubaital\, Österreich
URL;VALUE=URI:https://hey.bayern/events/694042
END:VEVENT
END:VCALENDAR
