BEGIN:VCALENDAR
PRODID:-//eluceo/ical//2.0/EN
VERSION:2.0
CALSCALE:GREGORIAN
BEGIN:VEVENT
UID:hey.bayern.694040.6549072
DTSTAMP:20260422T091934Z
SUMMARY:Musiksommer Neustift: Konzert für Chor\, Orchester und Solisten
DTSTART;TZID=Europe/Berlin:20260818T203000
DTEND;TZID=Europe/Berlin:20260818T213000
LOCATION:6167 Neustift im Stubaital\, Österreich
URL;VALUE=URI:https://hey.bayern/events/694040
END:VEVENT
END:VCALENDAR
