BEGIN:VCALENDAR
PRODID:-//eluceo/ical//2.0/EN
VERSION:2.0
CALSCALE:GREGORIAN
BEGIN:VEVENT
UID:hey.bayern.694038.6549070
DTSTAMP:20260422T090643Z
SUMMARY:Musiksommer Neustift: Konzert f.Posaunen\, Alphörner\, Harfe\, Fl
 öte und Schlagwerk
DTSTART;TZID=Europe/Berlin:20260804T203000
DTEND;TZID=Europe/Berlin:20260804T213000
LOCATION:6167 Neustift im Stubaital\, Österreich
URL;VALUE=URI:https://hey.bayern/events/694038
END:VEVENT
END:VCALENDAR
