BEGIN:VCALENDAR
PRODID:-//eluceo/ical//2.0/EN
VERSION:2.0
CALSCALE:GREGORIAN
BEGIN:VEVENT
UID:hey.bayern.694033.6549065
DTSTAMP:20260419T204826Z
SUMMARY:Monika Krautgartner: Mit der Mutter ist alles in Butter
DTSTART;TZID=Europe/Berlin:20260506T190000
DTEND;TZID=Europe/Berlin:20260506T235900
LOCATION:Schatzweg 177\, 4040 Linz\, Österreich
GEO:48.339097;14.306152
X-APPLE-STRUCTURED-LOCATION;VALUE=URI;X-ADDRESS=Schatzweg 177\, 4040 Linz\,
  Österreich;X-APPLE-RADIUS=49;X-TITLE=:geo:48.339097,14.306152
URL;VALUE=URI:https://hey.bayern/events/694033
END:VEVENT
END:VCALENDAR
