BEGIN:VCALENDAR
PRODID:-//eluceo/ical//2.0/EN
VERSION:2.0
CALSCALE:GREGORIAN
BEGIN:VEVENT
UID:hey.bayern.694018.6549007
DTSTAMP:20260420T072105Z
SUMMARY:Kraftquelle Lachen
DTSTART;TZID=Europe/Berlin:20260504T183000
DTEND;TZID=Europe/Berlin:20260504T235959
LOCATION:St. Johann bei Herberstein 7\, 8222 Feistritztal\, Österreich
URL;VALUE=URI:https://hey.bayern/events/694018
END:VEVENT
END:VCALENDAR
