BEGIN:VCALENDAR
PRODID:-//eluceo/ical//2.0/EN
VERSION:2.0
CALSCALE:GREGORIAN
BEGIN:VEVENT
UID:hey.bayern.694015.6549003
DTSTAMP:20260419T164542Z
SUMMARY:Klang-Energieabend
DTSTART;TZID=Europe/Berlin:20260504T190000
DTEND;TZID=Europe/Berlin:20260504T235900
LOCATION:6215 Achenkirch\, Österreich
GEO:47.541230;11.701100
X-APPLE-STRUCTURED-LOCATION;VALUE=URI;X-ADDRESS=6215 Achenkirch\, Österrei
 ch;X-APPLE-RADIUS=49;X-TITLE=:geo:47.541230,11.701100
URL;VALUE=URI:https://hey.bayern/events/694015
END:VEVENT
END:VCALENDAR
