BEGIN:VCALENDAR
PRODID:-//eluceo/ical//2.0/EN
VERSION:2.0
CALSCALE:GREGORIAN
BEGIN:VEVENT
UID:hey.bayern.693988.6548701
DTSTAMP:20260419T190214Z
SUMMARY:Gameday AFC Schwaz Hammers vs Mostviertel Dukes
DTSTART;TZID=Europe/Berlin:20260525T120000
DTEND;TZID=Europe/Berlin:20260525T150000
LOCATION:6130 Schwaz\, Österreich
URL;VALUE=URI:https://hey.bayern/events/693988
END:VEVENT
END:VCALENDAR
