BEGIN:VCALENDAR
PRODID:-//eluceo/ical//2.0/EN
VERSION:2.0
CALSCALE:GREGORIAN
BEGIN:VEVENT
UID:hey.bayern.693980.6548682
DTSTAMP:20260419T205657Z
SUMMARY:Frauenkräuter – Kräuterwissen für Zyklus\, Wechsel & Wohlgefü
 hl
DTSTART;TZID=Europe/Berlin:20260920T083000
DTEND;TZID=Europe/Berlin:20260920T130000
LOCATION:Kaltenbachstraße 62\, 4820 Bad Ischl\, Österreich
GEO:47.698650;13.607085
X-APPLE-STRUCTURED-LOCATION;VALUE=URI;X-ADDRESS=Kaltenbachstraße 62\, 4820
  Bad Ischl\, Österreich;X-APPLE-RADIUS=49;X-TITLE=:geo:47.698650,13.60708
 5
URL;VALUE=URI:https://hey.bayern/events/693980
END:VEVENT
END:VCALENDAR
