BEGIN:VCALENDAR
PRODID:-//eluceo/ical//2.0/EN
VERSION:2.0
CALSCALE:GREGORIAN
BEGIN:VEVENT
UID:hey.bayern.693978.6548678
DTSTAMP:20260419T190127Z
SUMMARY:Fine Crime Festival: Beate Maly
DTSTART;TZID=Europe/Berlin:20260615T190000
DTEND;TZID=Europe/Berlin:20260615T235959
LOCATION:Rathausplatz 2-4\, 8580 Köflach\, Österreich
GEO:47.064249;15.082669
X-APPLE-STRUCTURED-LOCATION;VALUE=URI;X-ADDRESS=Rathausplatz 2-4\, 8580 Kö
 flach\, Österreich;X-APPLE-RADIUS=49;X-TITLE=:geo:47.064249,15.082669
URL;VALUE=URI:https://hey.bayern/events/693978
END:VEVENT
END:VCALENDAR
