BEGIN:VCALENDAR
PRODID:-//eluceo/ical//2.0/EN
VERSION:2.0
CALSCALE:GREGORIAN
BEGIN:VEVENT
UID:hey.bayern.693974.6548674
DTSTAMP:20260422T030737Z
SUMMARY:Felberwispelfest Lipsch
DTSTART;TZID=Europe/Berlin:20260501T103000
DTEND;TZID=Europe/Berlin:20260501T235959
LOCATION:Dorfplatz Lipsch\, 8423 Lipsch\, Österreich
GEO:46.765430;15.667490
X-APPLE-STRUCTURED-LOCATION;VALUE=URI;X-ADDRESS=Dorfplatz Lipsch\, 8423 Lip
 sch\, Österreich;X-APPLE-RADIUS=49;X-TITLE=:geo:46.765430,15.667490
URL;VALUE=URI:https://hey.bayern/events/693974
END:VEVENT
END:VCALENDAR
