BEGIN:VCALENDAR
PRODID:-//eluceo/ical//2.0/EN
VERSION:2.0
CALSCALE:GREGORIAN
BEGIN:VEVENT
UID:hey.bayern.693970.6548667
DTSTAMP:20260419T192200Z
SUMMARY:Ennstal-Classic durch Tamsweg
DTSTART;TZID=Europe/Berlin:20260723T110000
DTEND;TZID=Europe/Berlin:20260723T123000
LOCATION:Kirchplatz 15\, 8962 Gröbming\, Österreich
URL;VALUE=URI:https://hey.bayern/events/693970
END:VEVENT
END:VCALENDAR
