BEGIN:VCALENDAR
PRODID:-//eluceo/ical//2.0/EN
VERSION:2.0
CALSCALE:GREGORIAN
BEGIN:VEVENT
UID:hey.bayern.693950.6548616
DTSTAMP:20260422T002003Z
SUMMARY:Begegnungscafé im Volkshilfe Senioren Tageszentrum
DTSTART;TZID=Europe/Berlin:20260507T140000
DTEND;TZID=Europe/Berlin:20260507T150000
LOCATION:Senioren Tageszentrum\, Pestalozzistraße 29a\, 8700 Leoben\, Öst
 erreich
URL;VALUE=URI:https://hey.bayern/events/693950
END:VEVENT
END:VCALENDAR
