BEGIN:VCALENDAR
PRODID:-//eluceo/ical//2.0/EN
VERSION:2.0
CALSCALE:GREGORIAN
BEGIN:VEVENT
UID:hey.bayern.693793.6547203
DTSTAMP:20260422T014949Z
SUMMARY:Lange Nacht der Forschung
DTSTART;TZID=Europe/Berlin:20260424T170000
DTEND;TZID=Europe/Berlin:20260424T230000
LOCATION:Verschiedene Standorte\, 8700 Leoben\, Österreich
GEO:47.384978;15.093052
X-APPLE-STRUCTURED-LOCATION;VALUE=URI;X-ADDRESS=Verschiedene Standorte\, 87
 00 Leoben\, Österreich;X-APPLE-RADIUS=49;X-TITLE=:geo:47.384978,15.093052
URL;VALUE=URI:https://hey.bayern/events/693793
END:VEVENT
END:VCALENDAR
