BEGIN:VCALENDAR
PRODID:-//eluceo/ical//2.0/EN
VERSION:2.0
CALSCALE:GREGORIAN
BEGIN:VEVENT
UID:hey.bayern.693781.6547189
DTSTAMP:20260422T014941Z
SUMMARY:Kunterbuntes Spielespektakel
DTSTART;TZID=Europe/Berlin:20260609T140000
DTEND;TZID=Europe/Berlin:20260609T170000
LOCATION:Spielplatz Leitendorf\, Alois Edlinger-Gasse\, 8700 Leoben\, Öste
 rreich
URL;VALUE=URI:https://hey.bayern/events/693781
END:VEVENT
END:VCALENDAR
