BEGIN:VCALENDAR
PRODID:-//eluceo/ical//2.0/EN
VERSION:2.0
CALSCALE:GREGORIAN
BEGIN:VEVENT
UID:hey.bayern.693753.6547046
DTSTAMP:20260419T192218Z
SUMMARY:Konzert: Straight on
DTSTART;TZID=Europe/Berlin:20260508T200000
DTEND;TZID=Europe/Berlin:20260508T230000
LOCATION:Hauptlatz 1\, 8401 Kalsdorf bei Graz\, Österreich
URL;VALUE=URI:https://hey.bayern/events/693753
END:VEVENT
END:VCALENDAR
