BEGIN:VCALENDAR
PRODID:-//eluceo/ical//2.0/EN
VERSION:2.0
CALSCALE:GREGORIAN
BEGIN:VEVENT
UID:hey.bayern.693745.6547035
DTSTAMP:20260419T161329Z
SUMMARY:Klimafest 2026
DTSTART;TZID=Europe/Berlin:20260509T130000
DTEND;TZID=Europe/Berlin:20260509T235959
LOCATION:Wehrgrabengasse 7\, 4400 Steyr\, Österreich
GEO:48.039005;14.419128
X-APPLE-STRUCTURED-LOCATION;VALUE=URI;X-ADDRESS=Wehrgrabengasse 7\, 4400 St
 eyr\, Österreich;X-APPLE-RADIUS=49;X-TITLE=:geo:48.039005,14.419128
URL;VALUE=URI:https://hey.bayern/events/693745
END:VEVENT
END:VCALENDAR
