BEGIN:VCALENDAR
PRODID:-//eluceo/ical//2.0/EN
VERSION:2.0
CALSCALE:GREGORIAN
BEGIN:VEVENT
UID:hey.bayern.693664.6546190
DTSTAMP:20260419T192115Z
SUMMARY:E-Bike Tour "Biathlon WM Pfad"
DTSTART;TZID=Europe/Berlin:20261028T130000
DTEND;TZID=Europe/Berlin:20261028T153000
URL;VALUE=URI:https://hey.bayern/events/693664
END:VEVENT
END:VCALENDAR
