BEGIN:VCALENDAR
PRODID:-//eluceo/ical//2.0/EN
VERSION:2.0
CALSCALE:GREGORIAN
BEGIN:VEVENT
UID:hey.bayern.693664.6546170
DTSTAMP:20260419T192205Z
SUMMARY:E-Bike Tour "Biathlon WM Pfad"
DTSTART;TZID=Europe/Berlin:20260610T130000
DTEND;TZID=Europe/Berlin:20260610T153000
URL;VALUE=URI:https://hey.bayern/events/693664
END:VEVENT
END:VCALENDAR
