BEGIN:VCALENDAR
PRODID:-//eluceo/ical//2.0/EN
VERSION:2.0
CALSCALE:GREGORIAN
BEGIN:VEVENT
UID:hey.bayern.693626.6545817
DTSTAMP:20260419T192215Z
SUMMARY:Bienenlehrpfad-Führung am Pillersee
DTSTART;TZID=Europe/Berlin:20260609T100000
DTEND;TZID=Europe/Berlin:20260609T113000
URL;VALUE=URI:https://hey.bayern/events/693626
END:VEVENT
END:VCALENDAR
