BEGIN:VCALENDAR
PRODID:-//eluceo/ical//2.0/EN
VERSION:2.0
CALSCALE:GREGORIAN
BEGIN:VEVENT
UID:hey.bayern.693577.6545182
DTSTAMP:20260419T192114Z
SUMMARY:28. Int. Cordial Cup Tirol
DTSTART;TZID=Europe/Berlin:20260525T000000
DTEND;TZID=Europe/Berlin:20260525T235900
URL;VALUE=URI:https://hey.bayern/events/693577
END:VEVENT
END:VCALENDAR
