BEGIN:VCALENDAR
PRODID:-//eluceo/ical//2.0/EN
VERSION:2.0
CALSCALE:GREGORIAN
BEGIN:VEVENT
UID:hey.bayern.693455.6544506
DTSTAMP:20260422T002003Z
SUMMARY:Ausstellung: Garten\, Kunst und Krempel
DTSTART;TZID=Europe/Berlin:20260523T090000
DTEND;TZID=Europe/Berlin:20260523T180000
LOCATION:Hautplatz und LCS\, 8700 Leoben\, Österreich
GEO:47.381159;15.094968
X-APPLE-STRUCTURED-LOCATION;VALUE=URI;X-ADDRESS=Hautplatz und LCS\, 8700 Le
 oben\, Österreich;X-APPLE-RADIUS=49;X-TITLE=:geo:47.381159,15.094968
URL;VALUE=URI:https://hey.bayern/events/693455
END:VEVENT
END:VCALENDAR
