BEGIN:VCALENDAR
PRODID:-//eluceo/ical//2.0/EN
VERSION:2.0
CALSCALE:GREGORIAN
BEGIN:VEVENT
UID:hey.bayern.693171.6540835
DTSTAMP:20260419T115549Z
SUMMARY:Kunstkino - HAMNET
DTSTART;TZID=Europe/Berlin:20260420T193000
DTEND;TZID=Europe/Berlin:20260420T213000
LOCATION:6370 Kitzbühel\, Österreich
GEO:47.446440;12.390080
X-APPLE-STRUCTURED-LOCATION;VALUE=URI;X-ADDRESS=6370 Kitzbühel\, Österrei
 ch;X-APPLE-RADIUS=49;X-TITLE=:geo:47.446440,12.390080
URL;VALUE=URI:https://hey.bayern/events/693171
END:VEVENT
END:VCALENDAR
