BEGIN:VCALENDAR
PRODID:-//eluceo/ical//2.0/EN
VERSION:2.0
CALSCALE:GREGORIAN
BEGIN:VEVENT
UID:hey.bayern.692692.6537457
DTSTAMP:20260422T014941Z
SUMMARY:Staatsmeisterschaften - Österreichische MUAYTHAI Meisterschaften 2
 026
DTSTART;TZID=Europe/Berlin:20260425T120000
DTEND;TZID=Europe/Berlin:20260425T200000
LOCATION:Sporthalle Donawitz\, Kerpelystraße 11\, 8700 Leoben\, Österreic
 h
GEO:47.374064;15.081694
X-APPLE-STRUCTURED-LOCATION;VALUE=URI;X-ADDRESS=Sporthalle Donawitz\, Kerpe
 lystraße 11\, 8700 Leoben\, Österreich;X-APPLE-RADIUS=49;X-TITLE=:geo:47
 .374064,15.081694
URL;VALUE=URI:https://hey.bayern/events/692692
END:VEVENT
END:VCALENDAR
