BEGIN:VCALENDAR
PRODID:-//eluceo/ical//2.0/EN
VERSION:2.0
CALSCALE:GREGORIAN
BEGIN:VEVENT
UID:hey.bayern.692379.6535356
DTSTAMP:20260421T210652Z
SUMMARY:Hauns AMORE - Austropop Tribute
DTSTART;TZID=Europe/Berlin:20260523T200000
DTEND;TZID=Europe/Berlin:20260523T235959
URL;VALUE=URI:https://hey.bayern/events/692379
END:VEVENT
END:VCALENDAR
