BEGIN:VCALENDAR
PRODID:-//eluceo/ical//2.0/EN
VERSION:2.0
CALSCALE:GREGORIAN
BEGIN:VEVENT
UID:hey.bayern.691611.6529448
DTSTAMP:20260419T192701Z
SUMMARY:Blutspendeaktion
DTSTART;TZID=Europe/Berlin:20260601T190000
DTEND;TZID=Europe/Berlin:20260601T220000
LOCATION:Dorf 40\, 6952 Sibratsgfäll\, Österreich
GEO:47.425870;10.037330
X-APPLE-STRUCTURED-LOCATION;VALUE=URI;X-ADDRESS=Dorf 40\, 6952 Sibratsgfäl
 l\, Österreich;X-APPLE-RADIUS=49;X-TITLE=:geo:47.425870,10.037330
URL;VALUE=URI:https://hey.bayern/events/691611
END:VEVENT
END:VCALENDAR
