BEGIN:VCALENDAR
PRODID:-//eluceo/ical//2.0/EN
VERSION:2.0
CALSCALE:GREGORIAN
BEGIN:VEVENT
UID:hey.bayern.690366.6519857
DTSTAMP:20260423T234100Z
SUMMARY:Wie entsteht Verbundenheit? Begegnung im Dialog mit Gabriele Wladar
DTSTART;TZID=Europe/Berlin:20260705T090000
DTEND;TZID=Europe/Berlin:20260705T113000
LOCATION:Adelheid-Donderer-Straße 1\, 88131 Lindau (Bodensee)\, Österreic
 h
GEO:47.537969;9.733118
X-APPLE-STRUCTURED-LOCATION;VALUE=URI;X-ADDRESS=Adelheid-Donderer-Straße 1
 \, 88131 Lindau (Bodensee)\, Österreich;X-APPLE-RADIUS=49;X-TITLE=:geo:47
 .537969,9.733118
URL;VALUE=URI:https://hey.bayern/events/690366
END:VEVENT
END:VCALENDAR
