BEGIN:VCALENDAR
PRODID:-//eluceo/ical//2.0/EN
VERSION:2.0
CALSCALE:GREGORIAN
BEGIN:VEVENT
UID:hey.bayern.690350.6519825
DTSTAMP:20260423T234056Z
SUMMARY:Vortrag und Gespräch mit Barbara Lochbihler
DTSTART;TZID=Europe/Berlin:20260703T193000
DTEND;TZID=Europe/Berlin:20260703T210000
LOCATION:Lindenhofweg 25\, 88131 Lindau (Bodensee)\, Österreich
GEO:47.557936;9.660931
X-APPLE-STRUCTURED-LOCATION;VALUE=URI;X-ADDRESS=Lindenhofweg 25\, 88131 Lin
 dau (Bodensee)\, Österreich;X-APPLE-RADIUS=49;X-TITLE=:geo:47.557936,9.66
 0931
URL;VALUE=URI:https://hey.bayern/events/690350
END:VEVENT
END:VCALENDAR
