BEGIN:VCALENDAR
PRODID:-//eluceo/ical//2.0/EN
VERSION:2.0
CALSCALE:GREGORIAN
BEGIN:VEVENT
UID:hey.bayern.689542.6549038
DTSTAMP:20260419T160527Z
SUMMARY:Kunstsalon - Marie Ruprecht & Antonia Riederer
DTSTART;TZID=Europe/Berlin:20260428T000000
DTEND;TZID=Europe/Berlin:20260428T000000
LOCATION:Stadtplatz 8\, 4600 Wels\, Österreich
GEO:48.156902;14.025570
X-APPLE-STRUCTURED-LOCATION;VALUE=URI;X-ADDRESS=Stadtplatz 8\, 4600 Wels\, 
 Österreich;X-APPLE-RADIUS=49;X-TITLE=:geo:48.156902,14.025570
URL;VALUE=URI:https://hey.bayern/events/689542
END:VEVENT
END:VCALENDAR
