BEGIN:VCALENDAR
PRODID:-//eluceo/ical//2.0/EN
VERSION:2.0
CALSCALE:GREGORIAN
BEGIN:VEVENT
UID:hey.bayern.689003.6510860
DTSTAMP:20260419T172924Z
SUMMARY:communale oö 2026 –  400 Jahre Bauernkrieg in Oberösterreich
DTSTART;TZID=Europe/Berlin:20260518T000000
DTEND;TZID=Europe/Berlin:20260518T000000
LOCATION:Hauptplatz\, 4020 Linz\, Österreich
GEO:48.305756;14.286733
X-APPLE-STRUCTURED-LOCATION;VALUE=URI;X-ADDRESS=Hauptplatz\, 4020 Linz\, Ö
 sterreich;X-APPLE-RADIUS=49;X-TITLE=:geo:48.305756,14.286733
URL;VALUE=URI:https://hey.bayern/events/689003
END:VEVENT
END:VCALENDAR
