BEGIN:VCALENDAR
PRODID:-//eluceo/ical//2.0/EN
VERSION:2.0
CALSCALE:GREGORIAN
BEGIN:VEVENT
UID:hey.bayern.688697.6549292
DTSTAMP:20260419T190047Z
SUMMARY:Steirische Kakteentage
DTSTART;TZID=Europe/Berlin:20260425T100000
DTEND;TZID=Europe/Berlin:20260425T180000
LOCATION:Hauptplatz 1\, 8111 Gratwein-Straßengel\, Österreich
GEO:47.113883;15.336183
X-APPLE-STRUCTURED-LOCATION;VALUE=URI;X-ADDRESS=Hauptplatz 1\, 8111 Gratwei
 n-Straßengel\, Österreich;X-APPLE-RADIUS=49;X-TITLE=:geo:47.113883,15.33
 6183
URL;VALUE=URI:https://hey.bayern/events/688697
END:VEVENT
END:VCALENDAR
