BEGIN:VCALENDAR
PRODID:-//eluceo/ical//2.0/EN
VERSION:2.0
CALSCALE:GREGORIAN
BEGIN:VEVENT
UID:hey.bayern.688230.6510058
DTSTAMP:20260419T173001Z
SUMMARY:Cellissimo
DTSTART;TZID=Europe/Berlin:20260329T180000
DTEND;TZID=Europe/Berlin:20260329T235959
LOCATION:Rathausgasse 3\, 8160 Weiz\, Österreich
GEO:47.218343;15.622805
X-APPLE-STRUCTURED-LOCATION;VALUE=URI;X-ADDRESS=Rathausgasse 3\, 8160 Weiz\
 , Österreich;X-APPLE-RADIUS=49;X-TITLE=:geo:47.218343,15.622805
URL;VALUE=URI:https://hey.bayern/events/688230
END:VEVENT
END:VCALENDAR
