BEGIN:VCALENDAR
PRODID:-//eluceo/ical//2.0/EN
VERSION:2.0
CALSCALE:GREGORIAN
BEGIN:VEVENT
UID:hey.bayern.687907.6498494
DTSTAMP:20260419T192741Z
SUMMARY:Zit f´r Goga: Der Weckruf an die Welt - Unsere Kinder gemeinsam sc
 hützen - Children First
DTSTART;TZID=Europe/Berlin:20260530T140000
DTEND;TZID=Europe/Berlin:20260530T180000
LOCATION:Platz d. Wr. Symphoniker 1\, 6900 Bregenz\, Österreich
URL;VALUE=URI:https://hey.bayern/events/687907
END:VEVENT
END:VCALENDAR
