BEGIN:VCALENDAR
PRODID:-//eluceo/ical//2.0/EN
VERSION:2.0
CALSCALE:GREGORIAN
BEGIN:VEVENT
UID:hey.bayern.687855.6497163
DTSTAMP:20260419T192745Z
SUMMARY:Seniorenclub: Bilder | Wanderungen in Vorarlberg & Überraschungsvo
 rtrag
DTSTART;TZID=Europe/Berlin:20260601T143000
DTEND;TZID=Europe/Berlin:20260602T143000
LOCATION:Achsiedlungsstraße 93\, 6900 Bregenz\, Österreich
GEO:47.498490;9.703220
X-APPLE-STRUCTURED-LOCATION;VALUE=URI;X-ADDRESS=Achsiedlungsstraße 93\, 69
 00 Bregenz\, Österreich;X-APPLE-RADIUS=49;X-TITLE=:geo:47.498490,9.703220
URL;VALUE=URI:https://hey.bayern/events/687855
END:VEVENT
END:VCALENDAR
