BEGIN:VCALENDAR
PRODID:-//eluceo/ical//2.0/EN
VERSION:2.0
CALSCALE:GREGORIAN
BEGIN:VEVENT
UID:hey.bayern.687065.6487510
DTSTAMP:20260421T183147Z
SUMMARY:WAGNER RELOADED
DTSTART;TZID=Europe/Berlin:20261112T090000
DTEND;TZID=Europe/Berlin:20261112T130000
LOCATION:Theatergasse 4 (Eingang neben Stadtgalerie)\, 9020 Klagenfurt am W
 örthersee\, Österreich
URL;VALUE=URI:https://hey.bayern/events/687065
END:VEVENT
END:VCALENDAR
