BEGIN:VCALENDAR
PRODID:-//eluceo/ical//2.0/EN
VERSION:2.0
CALSCALE:GREGORIAN
BEGIN:VEVENT
UID:hey.bayern.686703.6556305
DTSTAMP:20260423T201418Z
SUMMARY:Fotokurs "Faszination Sternenhimmel"
DTSTART;TZID=Europe/Berlin:20260620T180000
DTEND;TZID=Europe/Berlin:20260621T180000
URL;VALUE=URI:https://hey.bayern/events/686703
END:VEVENT
END:VCALENDAR
