BEGIN:VCALENDAR
PRODID:-//eluceo/ical//2.0/EN
VERSION:2.0
CALSCALE:GREGORIAN
BEGIN:VEVENT
UID:hey.bayern.685852.6477368
DTSTAMP:20260419T192702Z
SUMMARY:Geburtsvorbereitungskurs
DTSTART;TZID=Europe/Berlin:20260622T184500
DTEND;TZID=Europe/Berlin:20260622T204500
LOCATION:Kirchplatz 14\, 6973 Höchst\, Österreich
URL;VALUE=URI:https://hey.bayern/events/685852
END:VEVENT
END:VCALENDAR
