BEGIN:VCALENDAR
PRODID:-//eluceo/ical//2.0/EN
VERSION:2.0
CALSCALE:GREGORIAN
BEGIN:VEVENT
UID:hey.bayern.683742.6464132
DTSTAMP:20260419T192705Z
SUMMARY:Müllpiraten Höchst - Clean Up im Juni
DTSTART;TZID=Europe/Berlin:20260606T100000
DTEND;TZID=Europe/Berlin:20260606T113000
LOCATION:Rheinauhalle Höchst 0\, 6973 Höchst\, Österreich
URL;VALUE=URI:https://hey.bayern/events/683742
END:VEVENT
END:VCALENDAR
