BEGIN:VCALENDAR
PRODID:-//eluceo/ical//2.0/EN
VERSION:2.0
CALSCALE:GREGORIAN
BEGIN:VEVENT
UID:hey.bayern.683642.6462687
DTSTAMP:20260419T192747Z
SUMMARY:Finissage & Führung mit dem Künstler: Tiefer Schweb | Drago Persi
 c
DTSTART;TZID=Europe/Berlin:20260612T170000
DTEND;TZID=Europe/Berlin:20260612T190000
LOCATION:Seestraße 5 (Eingang Posthof)\, 6900 Bregenz\, Österreich
GEO:47.505408;9.748003
X-APPLE-STRUCTURED-LOCATION;VALUE=URI;X-ADDRESS=Seestraße 5 (Eingang Posth
 of)\, 6900 Bregenz\, Österreich;X-APPLE-RADIUS=49;X-TITLE=:geo:47.505408,
 9.748003
URL;VALUE=URI:https://hey.bayern/events/683642
END:VEVENT
END:VCALENDAR
